BEGIN:VCALENDAR
VERSION:2.0
PRODID:icalendar-ruby
CALSCALE:GREGORIAN
METHOD:PUBLISH
BEGIN:VEVENT
DTSTAMP:20260419T173506Z
UID:17-892768@bbcbreckenridge.com
DTSTART:20260923T223000Z
DTEND:20260923T233000Z
CLASS:PUBLIC
CREATED:20260419T114050
DESCRIPTION:Join us for a short service followed by prayer and fellowship
LAST-MODIFIED:20260419T114050
LOCATION:631 E Chestnut St\, Breckenridge\, MI 48615
SUMMARY:Wednesday Prayer Meeting 
URL;VALUE=URI:https://www.bbcbreckenridge.com/events/wednesday-prayer-meeti
 ng/2026-09-23
ATTACH;FILENAME=Prayer Meeting icon.png;FMTTYPE=image/png:https://dq5pwpg1q
 8ru0.cloudfront.net/2025/03/29/03/35/49/b2662941-a642-4f3f-9963-0bf9dbb693
 e1/Prayer%20Meeting%20icon.png
END:VEVENT
END:VCALENDAR
