BEGIN:VCALENDAR
VERSION:2.0
PRODID:icalendar-ruby
CALSCALE:GREGORIAN
METHOD:PUBLISH
BEGIN:VEVENT
DTSTAMP:20260422T221351Z
UID:10-903382@bbcbreckenridge.com
DTSTART:20241027T150000Z
DTEND:20241027T160000Z
CLASS:PUBLIC
CREATED:20260422T161753
DESCRIPTION:Sunday Morning
LAST-MODIFIED:20260422T161753
LOCATION:
SUMMARY:Sunday Morning
URL;VALUE=URI:https://www.bbcbreckenridge.com/events/sunday-morning/2024-10
 -27
ATTACH;FILENAME=aaron-burden-H8s0PF2rcQs-unsplash.jpg;FMTTYPE=image/jpeg:ht
 tps://dq5pwpg1q8ru0.cloudfront.net/2026/01/18/01/15/24/6eb5e385-527d-412e-
 9b60-988b5d4d58e9/aaron-burden-H8s0PF2rcQs-unsplash.jpg
END:VEVENT
END:VCALENDAR
